BEGIN:VCALENDAR
VERSION:2.0
PRODID:-//Brosamverkan - ECPv6.15.20//NONSGML v1.0//EN
CALSCALE:GREGORIAN
METHOD:PUBLISH
X-WR-CALNAME:Brosamverkan
X-ORIGINAL-URL:https://brosamverkan.se
X-WR-CALDESC:Händelser för Brosamverkan
REFRESH-INTERVAL;VALUE=DURATION:PT1H
X-Robots-Tag:noindex
X-PUBLISHED-TTL:PT1H
BEGIN:VTIMEZONE
TZID:Europe/Stockholm
BEGIN:DAYLIGHT
TZOFFSETFROM:+0100
TZOFFSETTO:+0200
TZNAME:CEST
DTSTART:20240331T010000
END:DAYLIGHT
BEGIN:STANDARD
TZOFFSETFROM:+0200
TZOFFSETTO:+0100
TZNAME:CET
DTSTART:20241027T010000
END:STANDARD
BEGIN:DAYLIGHT
TZOFFSETFROM:+0100
TZOFFSETTO:+0200
TZNAME:CEST
DTSTART:20250330T010000
END:DAYLIGHT
BEGIN:STANDARD
TZOFFSETFROM:+0200
TZOFFSETTO:+0100
TZNAME:CET
DTSTART:20251026T010000
END:STANDARD
BEGIN:DAYLIGHT
TZOFFSETFROM:+0100
TZOFFSETTO:+0200
TZNAME:CEST
DTSTART:20260329T010000
END:DAYLIGHT
BEGIN:STANDARD
TZOFFSETFROM:+0200
TZOFFSETTO:+0100
TZNAME:CET
DTSTART:20261025T010000
END:STANDARD
END:VTIMEZONE
BEGIN:VEVENT
DTSTART;TZID=Europe/Stockholm:20250326T090000
DTEND;TZID=Europe/Stockholm:20250326T100000
DTSTAMP:20260422T080230
CREATED:20250204T170303Z
LAST-MODIFIED:20250204T170303Z
UID:2163-1742979600-1742983200@brosamverkan.se
SUMMARY:Brosamverkans årsmöte
DESCRIPTION:Brosamverkan kallar till årsmöte den 26 mars 2025\nTid för årsmötet: 2025-03-26 klockan 9:00 – 10:00\nPlats: Skånegatan 3\, Göteborg (Swecos kontor)\, alternativt via Teams.\nAnmälan om deltagande: Senast 2025-03-21 \nLäs mer och anmäl deltagande »
URL:https://brosamverkan.se/event/brosamverkans-arsmote/
LOCATION:Sweco’s kontor i Göteborg eller via Teams\, Skånegatan 3\, Göteborg
CATEGORIES:Årsmöte
END:VEVENT
END:VCALENDAR