BEGIN:VCALENDAR
VERSION:2.0
PRODID:-//Brosamverkan - ECPv6.15.20//NONSGML v1.0//EN
CALSCALE:GREGORIAN
METHOD:PUBLISH
X-ORIGINAL-URL:https://brosamverkan.se
X-WR-CALDESC:Händelser för Brosamverkan
REFRESH-INTERVAL;VALUE=DURATION:PT1H
X-Robots-Tag:noindex
X-PUBLISHED-TTL:PT1H
BEGIN:VTIMEZONE
TZID:Europe/Stockholm
BEGIN:DAYLIGHT
TZOFFSETFROM:+0100
TZOFFSETTO:+0200
TZNAME:CEST
DTSTART:20230326T010000
END:DAYLIGHT
BEGIN:STANDARD
TZOFFSETFROM:+0200
TZOFFSETTO:+0100
TZNAME:CET
DTSTART:20231029T010000
END:STANDARD
BEGIN:DAYLIGHT
TZOFFSETFROM:+0100
TZOFFSETTO:+0200
TZNAME:CEST
DTSTART:20240331T010000
END:DAYLIGHT
BEGIN:STANDARD
TZOFFSETFROM:+0200
TZOFFSETTO:+0100
TZNAME:CET
DTSTART:20241027T010000
END:STANDARD
BEGIN:DAYLIGHT
TZOFFSETFROM:+0100
TZOFFSETTO:+0200
TZNAME:CEST
DTSTART:20250330T010000
END:DAYLIGHT
BEGIN:STANDARD
TZOFFSETFROM:+0200
TZOFFSETTO:+0100
TZNAME:CET
DTSTART:20251026T010000
END:STANDARD
END:VTIMEZONE
BEGIN:VEVENT
DTSTART;TZID=Europe/Stockholm:20240927T090000
DTEND;TZID=Europe/Stockholm:20240927T120000
DTSTAMP:20260417T140520
CREATED:20240830T145548Z
LAST-MODIFIED:20240830T145646Z
UID:1858-1727427600-1727438400@brosamverkan.se
SUMMARY:Studiebesök på Halvön\, Masthuggskajen
DESCRIPTION:Brosamverkan tillsammans med Älvstranden bjuder in till studiebesök på Halvön\, Masthuggskajen\nArbetet med halvön vid förlängningen av Rosenlundskanalen\, norr om Järntorget\, är i full gång. Nu pågår intressanta grundläggningsarbeten inom spont\, för de höga byggnader som ska uppföras. Dessa skyddas av ett avancerat påseglingsskydd\, som är påbörjat inom grumlingssponten. Ytan som ska anläggas är två hektar\, vilket motsvarar ungefär fyra fotbollsplaner. När det är klart kommer halvön att fyllas med bostäder\, kontor och ett levande kajstråk med butiker\, restauranger med mera som gör halvön intressant att besöka. \nBrosamverkan tillsammans med Älvstranden inbjuder till studiebesök för främst konstruktörer. Antalet besökare är maximerat till 20 personer. \nLäs mer och anmäl dig »
URL:https://brosamverkan.se/event/studiebesok-pa-halvon-masthuggskajen/
LOCATION:Masthuggskajen\, Skeppsbron 4\, Göteborg\, Sweden
CATEGORIES:Studiebesök
ATTACH;FMTTYPE=image/jpeg:https://brosamverkan.se/wp-content/uploads/2024/08/masthuggskajen.jpg
END:VEVENT
END:VCALENDAR