BEGIN:VCALENDAR
VERSION:2.0
PRODID:-//Brosamverkan - ECPv6.15.20//NONSGML v1.0//EN
CALSCALE:GREGORIAN
METHOD:PUBLISH
X-WR-CALNAME:Brosamverkan
X-ORIGINAL-URL:https://brosamverkan.se
X-WR-CALDESC:Händelser för Brosamverkan
REFRESH-INTERVAL;VALUE=DURATION:PT1H
X-Robots-Tag:noindex
X-PUBLISHED-TTL:PT1H
BEGIN:VTIMEZONE
TZID:Europe/Stockholm
BEGIN:DAYLIGHT
TZOFFSETFROM:+0100
TZOFFSETTO:+0200
TZNAME:CEST
DTSTART:20220327T010000
END:DAYLIGHT
BEGIN:STANDARD
TZOFFSETFROM:+0200
TZOFFSETTO:+0100
TZNAME:CET
DTSTART:20221030T010000
END:STANDARD
BEGIN:DAYLIGHT
TZOFFSETFROM:+0100
TZOFFSETTO:+0200
TZNAME:CEST
DTSTART:20230326T010000
END:DAYLIGHT
BEGIN:STANDARD
TZOFFSETFROM:+0200
TZOFFSETTO:+0100
TZNAME:CET
DTSTART:20231029T010000
END:STANDARD
BEGIN:DAYLIGHT
TZOFFSETFROM:+0100
TZOFFSETTO:+0200
TZNAME:CEST
DTSTART:20240331T010000
END:DAYLIGHT
BEGIN:STANDARD
TZOFFSETFROM:+0200
TZOFFSETTO:+0100
TZNAME:CET
DTSTART:20241027T010000
END:STANDARD
END:VTIMEZONE
BEGIN:VEVENT
DTSTART;TZID=Europe/Stockholm:20230328T090000
DTEND;TZID=Europe/Stockholm:20230328T100000
DTSTAMP:20260425T185614
CREATED:20230321T145007Z
LAST-MODIFIED:20230321T145007Z
UID:1402-1679994000-1679997600@brosamverkan.se
SUMMARY:Årsmöte
DESCRIPTION:Brosamverkan kallar till årsmöte den 28 mars 2023\nLäs mer här »
URL:https://brosamverkan.se/event/arsmote-2/
LOCATION:Swerocks kontor\, Skånegatan 3\, Göteborg
CATEGORIES:Årsmöte
END:VEVENT
BEGIN:VEVENT
DTSTART;TZID=Europe/Stockholm:20230328T100000
DTEND;TZID=Europe/Stockholm:20230328T120000
DTSTAMP:20260425T185614
CREATED:20230322T102358Z
LAST-MODIFIED:20230322T102358Z
UID:1414-1679997600-1680004800@brosamverkan.se
SUMMARY:Medlemsmöte
DESCRIPTION:Brosamverkan inbjuder till medlemsmöte den 28 mars 2023\nLäs mer här »
URL:https://brosamverkan.se/event/medlemsmote-2/
LOCATION:Swerocks kontor\, Skånegatan 3\, Göteborg
CATEGORIES:Medlemsmöte
END:VEVENT
END:VCALENDAR