BEGIN:VCALENDAR
VERSION:2.0
PRODID:-//Brosamverkan - ECPv6.15.20//NONSGML v1.0//EN
CALSCALE:GREGORIAN
METHOD:PUBLISH
X-WR-CALNAME:Brosamverkan
X-ORIGINAL-URL:https://brosamverkan.se
X-WR-CALDESC:Händelser för Brosamverkan
REFRESH-INTERVAL;VALUE=DURATION:PT1H
X-Robots-Tag:noindex
X-PUBLISHED-TTL:PT1H
BEGIN:VTIMEZONE
TZID:Europe/Stockholm
BEGIN:DAYLIGHT
TZOFFSETFROM:+0100
TZOFFSETTO:+0200
TZNAME:CEST
DTSTART:20190331T010000
END:DAYLIGHT
BEGIN:STANDARD
TZOFFSETFROM:+0200
TZOFFSETTO:+0100
TZNAME:CET
DTSTART:20191027T010000
END:STANDARD
BEGIN:DAYLIGHT
TZOFFSETFROM:+0100
TZOFFSETTO:+0200
TZNAME:CEST
DTSTART:20200329T010000
END:DAYLIGHT
BEGIN:STANDARD
TZOFFSETFROM:+0200
TZOFFSETTO:+0100
TZNAME:CET
DTSTART:20201025T010000
END:STANDARD
BEGIN:DAYLIGHT
TZOFFSETFROM:+0100
TZOFFSETTO:+0200
TZNAME:CEST
DTSTART:20210328T010000
END:DAYLIGHT
BEGIN:STANDARD
TZOFFSETFROM:+0200
TZOFFSETTO:+0100
TZNAME:CET
DTSTART:20211031T010000
END:STANDARD
BEGIN:DAYLIGHT
TZOFFSETFROM:+0100
TZOFFSETTO:+0200
TZNAME:CEST
DTSTART:20220327T010000
END:DAYLIGHT
BEGIN:STANDARD
TZOFFSETFROM:+0200
TZOFFSETTO:+0100
TZNAME:CET
DTSTART:20221030T010000
END:STANDARD
BEGIN:DAYLIGHT
TZOFFSETFROM:+0100
TZOFFSETTO:+0200
TZNAME:CEST
DTSTART:20230326T010000
END:DAYLIGHT
BEGIN:STANDARD
TZOFFSETFROM:+0200
TZOFFSETTO:+0100
TZNAME:CET
DTSTART:20231029T010000
END:STANDARD
BEGIN:DAYLIGHT
TZOFFSETFROM:+0100
TZOFFSETTO:+0200
TZNAME:CEST
DTSTART:20240331T010000
END:DAYLIGHT
BEGIN:STANDARD
TZOFFSETFROM:+0200
TZOFFSETTO:+0100
TZNAME:CET
DTSTART:20241027T010000
END:STANDARD
END:VTIMEZONE
BEGIN:VEVENT
DTSTART;TZID=Europe/Stockholm:20230119T151500
DTEND;TZID=Europe/Stockholm:20230119T151500
DTSTAMP:20260421T122940
CREATED:20230110T121111Z
LAST-MODIFIED:20230110T121213Z
UID:1308-1674141300-1674141300@brosamverkan.se
SUMMARY:Welcome to Helén Broo’s promotion lecture for Adjunct Professor
DESCRIPTION:When: 15:15\, 19th of January\, 2023\nWhere: Hörsal 7 (SB-H7)\, groundfloor\, ACE\, building SB2 (Sven Hultins gata 6) \nThe aftermingle will take place outside Hörsal 7\,  no registration is necessary.\nThe promotion lecture will be held in Swedish. \nWant to watch it via Zoom?\nJoin from PC\, Mac\, Linux\, iOS or Android: https://chalmers.zoom.us/j/61070401644\nPassword: BRO  \nConstruction-integrated bridge and structural engineering\nThe design determines how a civil structure\, e.g a bridge\, should be built to meet all the requirements set by the customer; function\, aesthetics\, robustness and cost as well as society’s requirements for safety\, load-bearing capacity and durability. In the design phase\, it is sometimes forgotten how the structure is to be built\, and how this can be done in rational a safe way. Today\, too many non-buildable solutions are developed by designers who have no interaction with production and have lack of knowledge on limitations and possibilities in production. \nThere is great potential for savings in society if you can avoid/minimize time losses and futile costs as a result of redesign in the execution phase due to non-production-adapted solutions. It is a matter of gaining experience from production at an early stage in the planning of the design. With today’s tools and better use of digital development\, models and parameterization can be used to enable optimization with more requirements\, choices\, and parameters such as quantities\, cost\, time\, CO2 equivalents\, buildability and safety.
URL:https://brosamverkan.se/event/welcome-to-helen-broos-promotion-lecture-for-adjunct-professor/
CATEGORIES:Föreläsning
END:VEVENT
BEGIN:VEVENT
DTSTART;TZID=Europe/Stockholm:20221214T100000
DTEND;TZID=Europe/Stockholm:20221214T140000
DTSTAMP:20260421T122940
CREATED:20221204T115825Z
LAST-MODIFIED:20221204T115825Z
UID:1284-1671012000-1671026400@brosamverkan.se
SUMMARY:Medlemsmöte med jullunch
DESCRIPTION:Brosamverkan inbjuder till medlemsmöte med jullunch 14/12 \nMöte kl. 10:00 – 12:00\nJullunch kl. 12:00 – 14:00 \nLäs mer och anmäl dig här https://brosamverkan.se/medlemsmote-med-jullunch/
URL:https://brosamverkan.se/event/medlemsmote-med-jullunch/
LOCATION:Sweco’s kontor i Göteborg eller via Teams\, Skånegatan 3\, Göteborg
CATEGORIES:Medlemsmöte
END:VEVENT
BEGIN:VEVENT
DTSTART;VALUE=DATE:20221118
DTEND;VALUE=DATE:20221119
DTSTAMP:20260421T122940
CREATED:20221017T133802Z
LAST-MODIFIED:20221017T133802Z
UID:1192-1668729600-1668815999@brosamverkan.se
SUMMARY:Studiebesök i Stockholm
DESCRIPTION:Brosamverkan bjuder in till två intressanta studiebesök i Stockholm\nTrafikverket bygger ny bro över Skurusundet i Nacka \noch \nSkanska bygger på uppdrag av Stockholms Stad om Slussen i Stockholm \nDet är möjligt att anmäla sig till ett av besöken eller bägge två. Samma kostnad utgår oavsett.\nAntalet platser är begränsade. \nLäs mer och anmäl Dig »
URL:https://brosamverkan.se/event/studiebesok-i-stockholm/
CATEGORIES:Studiebesök
END:VEVENT
BEGIN:VEVENT
DTSTART;VALUE=DATE:20221109
DTEND;VALUE=DATE:20221110
DTSTAMP:20260421T122940
CREATED:20221024T111933Z
LAST-MODIFIED:20221024T112118Z
UID:1199-1667952000-1668038399@brosamverkan.se
SUMMARY:Årligt seminarium för brokonstruktörer
DESCRIPTION:Länk till program Välkommen till (eurokodutbildningar.se)\nLänk till anmälan ANMÄLAN – (eurokodutbildningar.se)
URL:https://brosamverkan.se/event/arligt-seminarium-for-brokonstruktorer/
LOCATION:Westmanska Palatset (eller  Teams)\, Holländargatan 17\, Stockholm
CATEGORIES:Seminarium
END:VEVENT
BEGIN:VEVENT
DTSTART;TZID=Europe/Stockholm:20220509T140000
DTEND;TZID=Europe/Stockholm:20220509T170000
DTSTAMP:20260421T122940
CREATED:20220502T093847Z
LAST-MODIFIED:20220502T104350Z
UID:1066-1652104800-1652115600@brosamverkan.se
SUMMARY:Betongplattor: Dimensionering och utvärdering med FEM
DESCRIPTION:Välkommen till vårens forum som inleds med medlemsmöte\, med ett efterföljande seminarium som ger guidning i FEM\nDet har publicerats flera handböcker om beräkning\, dimensionering och utvärdering av betongplattor vid Chalmers de senaste åren. Dessa vänder sig till verksamma konstruktörer och ger praktiska råd om hur finita elementmetoden (FEM) kan användas. Vid seminariet bjuder vi på en introduktion till handböckerna och visar exempel på hur de kan användas i praktiken. \nMer information och anmälan » \nCHALMERS – FORUM FÖR AVANCERAD KONSTRUKTIONSTEKNIK VT22
URL:https://brosamverkan.se/event/betongplattor-dimensionering-och-utvardering-med-fem/
LOCATION:Chalmers\, Sven Hultins gata 6\, Göteborg
CATEGORIES:Seminarium
END:VEVENT
BEGIN:VEVENT
DTSTART;TZID=Europe/Stockholm:20220407T100000
DTEND;TZID=Europe/Stockholm:20220407T110000
DTSTAMP:20260421T122940
CREATED:20220318T101252Z
LAST-MODIFIED:20220318T103253Z
UID:1051-1649325600-1649329200@brosamverkan.se
SUMMARY:Broar i väderbeständiga stål
DESCRIPTION:Brosamverkan och SSAB bjuder in till ett webbinarium där vi svarar på frågor och presenterar framtida hållbara lösningar om broar i väderbeständiga\, rosttröga stål. Det handlar om estetiskt tilltalande broar med låga underhållskostnader och minskad miljöpåverkan.\nDessutom berättar vi om SSABs initiativ att tillverka fossilfritt stål och den revolutionerande omställningen som planeras stå klar redan 2030. \nWebbinariet kommer bland annat behandla: \n• Vad är väderbeständiga stål\n• Lämpliga stålsorter och standarder att förhålla sig till\n• Erfarenheter från 90 broar i Finland – utsatta för salt under 40 år\n• Därför är väderbeständiga stål är ett bra val för miljön\n• Viktigt att tänka på när man designar en bro i väderbeständiga stål\n• Lägre livstidskostnad med väderbeständiga stål\n• Vad är fossilfritt stål och när kommer det att vara tillgängligt? \nLäs mer och anmäl dig »
URL:https://brosamverkan.se/event/broar-i-vaderbestandiga-stal/
LOCATION:Webbinarium
CATEGORIES:Seminarium
END:VEVENT
BEGIN:VEVENT
DTSTART;TZID=Europe/Stockholm:20220329T143000
DTEND;TZID=Europe/Stockholm:20220329T160000
DTSTAMP:20260421T122940
CREATED:20220314T084056Z
LAST-MODIFIED:20220314T093102Z
UID:1036-1648564200-1648569600@brosamverkan.se
SUMMARY:Medlemsmöte
DESCRIPTION:Brosamverkan inbjuder till medlemsmöte den 29 mars 2022 \nDag och tid: 29 mars 2022 klockan 14:30–16:00\nPlats: Skånegatan 3\, Göteborg. (Sweco’s kontor)\, alternativt via Teams\nAnmälan om deltagande: Senast 25 mars 2022 via formulär » \nMedlemsmötet är direkt efter Brosamverkans Årsmöte 29/3 kl. 13:00–14:00.\nHar du inte anmält dig till årsmötet kan du göra det samtidigt som du anmäler dig till medlemsmötet. Har du redan anmält dig till årsmötet och vill komplettera med medlemsmötet är det bara att göra en ny anmälan. \nArrangemanget är kostnadsfritt. \nDagordning hittar du här  \n 
URL:https://brosamverkan.se/event/medlemsmote/
LOCATION:Sweco’s kontor i Göteborg eller via Teams\, Skånegatan 3\, Göteborg
END:VEVENT
BEGIN:VEVENT
DTSTART;TZID=Europe/Stockholm:20220329T130000
DTEND;TZID=Europe/Stockholm:20220329T140000
DTSTAMP:20260421T122940
CREATED:20220221T225831Z
LAST-MODIFIED:20220314T084804Z
UID:1029-1648558800-1648562400@brosamverkan.se
SUMMARY:Årsmöte 2022
DESCRIPTION:Brosamverkan kallar till årsmöte den 29 mars 2022 \nTid för årsmötet: 29 mars 2022 klockan 13:00–14:00\nPlats: Skånegatan 3\, Göteborg. (Sweco’s kontor)\, alternativt via Teams\nAnmälan om deltagande: Senast 25 mars 2022 via formulär »\nMotioner: Ska skickas till styrelsens ordförande eller sekreterare senast 14 mars 2022 \nDagordning hittar du här  \n\n\n\n 
URL:https://brosamverkan.se/event/arsmote-2022/
LOCATION:Sweco’s kontor i Göteborg eller via Teams\, Skånegatan 3\, Göteborg
END:VEVENT
BEGIN:VEVENT
DTSTART;TZID=Europe/Stockholm:20220201T090000
DTEND;TZID=Europe/Stockholm:20220201T130000
DTSTAMP:20260421T122940
CREATED:20220113T163741Z
LAST-MODIFIED:20220113T163741Z
UID:1003-1643706000-1643720400@brosamverkan.se
SUMMARY:CIR dagen digitalt
DESCRIPTION:Missa inte årets digitala CIR-dag den 1 februari kl. 9:00 – 13:00 \nTema: Höghastighetsjärnväg \nProgram och anmälan: CIR dagen. Digital och kostnadsfri \n 
URL:https://brosamverkan.se/event/cir-dagen-digitalt/
CATEGORIES:Seminarium
END:VEVENT
BEGIN:VEVENT
DTSTART;VALUE=DATE:20220131
DTEND;VALUE=DATE:20220201
DTSTAMP:20260421T122940
CREATED:20210912T150838Z
LAST-MODIFIED:20220113T163417Z
UID:801-1643587200-1643673599@brosamverkan.se
SUMMARY:Brobyggardagen 2022 (Inställd)
DESCRIPTION:På grund av de restriktioner gällande Covid-19 som nu råder kommer det inte att vara möjligt att genomföra Brobyggardagen 2022 på ett säkert sätt. De nu gällande restriktionerna infördes med kort framförhållning och så nära inpå Brobyggardagen 2022 att det inte finns tid att ställa om till att genomföra Brobyggardagen som ett digitalt event. \nVi beklagar detta då vi och många med oss sett fram emot att kunna träffas och utbyta erfarenheter under trevliga former. \nVi hoppas att ni har förståelse för vårt beslut och vi hälsar er välkomna till nästa Brobyggardag den 30 januari 2023. \n  \nÅrets Brobyggare kommer dock att utses även i år. \nÅrets Brobyggare 2021 kommer att presenteras den 31 januari \nBild Årets Brobyggardag 2022: 4th Danube bridge i Linz\, Österrike. ©sbp.
URL:https://brosamverkan.se/event/brobyggardagen-2022/
ATTACH;FMTTYPE=image/jpeg:https://brosamverkan.se/wp-content/uploads/2021/10/111220_perspektive_nacht_small.jpg
END:VEVENT
BEGIN:VEVENT
DTSTART;VALUE=DATE:20211215
DTEND;VALUE=DATE:20211216
DTSTAMP:20260421T122940
CREATED:20200520T164307Z
LAST-MODIFIED:20210126T125343Z
UID:206-1639526400-1639612799@brosamverkan.se
SUMMARY:Nominera Årets brobyggare
DESCRIPTION:Jobbar årets brobyggare hos er?\nDu vet väl att du under hela året kan nominera Årets Brobyggare? \nÅrets brobyggare är en person som genom eget\, aktivt arbete har bidragit till brobyggnadskonstens utveckling. \nFör kriterier och anmälan se information här » \nSkicka in din nominering senast 20 december 2021.
URL:https://brosamverkan.se/event/nominera-arets-brobyggare/
END:VEVENT
BEGIN:VEVENT
DTSTART;TZID=Europe/Stockholm:20210610T150000
DTEND;TZID=Europe/Stockholm:20210610T155000
DTSTAMP:20260421T122940
CREATED:20210607T145002Z
LAST-MODIFIED:20210607T145028Z
UID:792-1623337200-1623340200@brosamverkan.se
SUMMARY:Examensarbete
DESCRIPTION:Två av våra stipendiater\, Alexander Angrén och Maria Bruzell Roll\, kommer att presentera sitt examensarbete torsdagen 10 juni kl. 15:00-15:50. \nTitel: Conceptual Design of a Timber Footbridge – Investigation of a site-specific bridge in Wendelstrand\, Mönlycke \nDatum: Torsdag 10 juni kl. 15:00-15:50\nLänk: https://chalmers.zoom.us/j/61653629683\nLösenord: ACEX30
URL:https://brosamverkan.se/event/792/
END:VEVENT
BEGIN:VEVENT
DTSTART;TZID=Europe/Stockholm:20210323T090000
DTEND;TZID=Europe/Stockholm:20210323T103000
DTSTAMP:20260421T122940
CREATED:20201204T143850Z
LAST-MODIFIED:20210204T101102Z
UID:619-1616490000-1616495400@brosamverkan.se
SUMMARY:Årsmöte 2021
DESCRIPTION:Brosamverkan kallar till årsmöte den 23 mars 2021 \nTid för årsmötet: 2021-03-23 klockan 9:00 – 10:00\nPlats: Teams\nAnmälan om deltagande: Senast 2021-03-19 via detta formulär »\nMotioner: Ska skickas till styrelsens ordförande eller sekreterare senast 2021-03-09 \n\n\n\nDagordning hittar du här
URL:https://brosamverkan.se/event/arsmote/
END:VEVENT
BEGIN:VEVENT
DTSTART;VALUE=DATE:20210125
DTEND;VALUE=DATE:20210126
DTSTAMP:20260421T122940
CREATED:20200712T103825Z
LAST-MODIFIED:20210912T151015Z
UID:322-1611532800-1611619199@brosamverkan.se
SUMMARY:Brobyggardagen 2021
DESCRIPTION:– En dag för dig inom Bro- och anläggningsbranschen\nBrobyggardagen är föreningens stora event som återkommer varje år och som utser Årets brobyggare\, läs mer om nominering » och tidigare pristagare » \nProgram och anmälan »
URL:https://brosamverkan.se/event/brobyggardagen/
END:VEVENT
BEGIN:VEVENT
DTSTART;TZID=Europe/Stockholm:20200924T140000
DTEND;TZID=Europe/Stockholm:20200924T160000
DTSTAMP:20260421T122940
CREATED:20200906T104206Z
LAST-MODIFIED:20200906T104451Z
UID:547-1600956000-1600963200@brosamverkan.se
SUMMARY:Dimensionering för tvångseffekter i betongkonstruktioner
DESCRIPTION:Forum för avancerad konstruktionsteknik HT20 på Chalmers Tekniska Högskola bjuder in till seminarium: \nDimensionering för tvångseffekter i betongkonstruktioner\n \n  \nEffekter av tvång till följd av temperatur och krympning är ofta dimensionerande för armeringsmängden i betongkonstruktioner. Det kan därför finnas mycket att spara på en noggrannare bestämning av tvångslasterna och bättre dimensioneringsmetoder för att ta hänsyn till dem. \nHör Erik Gottsäter från Skanska och Lunds Universitet presentera rekommendationer för praktisk dimensionering av plattrambroar med hänsyn till tvångseffekter\, samt Ingemar Löfgren från Thomas Concrete och Carlos Gil Berrocal\, Chalmers\, presentera en analytisk beräkningsmodell för tvångssprickor i kombinationsarmerad betong. \nOnline-möte: https://chalmers.zoom.us/j/67836546860\nTid: Torsdag den 24 september kl.14.00–16.00 \nSeminariet är kostnadsfritt och anmälan behövs ej. Tipsa gärna kollegor som du tror kan vara intresserade! \nSpråk: Huvudsakligen svenska. \nVälkommen!
URL:https://brosamverkan.se/event/dimensionering-for-tvangseffekter-i-betongkonstruktioner/
CATEGORIES:Seminarium
END:VEVENT
BEGIN:VEVENT
DTSTART;TZID=Europe/Stockholm:20200610T140000
DTEND;TZID=Europe/Stockholm:20200610T160000
DTSTAMP:20260421T122940
CREATED:20200526T122600Z
LAST-MODIFIED:20200526T122600Z
UID:298-1591797600-1591804800@brosamverkan.se
SUMMARY:Möt teamet bakom Pooley Bridge – Storbritanniens första vägtrafikbro i rostfritt stål
DESCRIPTION:Lägre underhållskostnader under en bros livslängd och arkitektoniska kvaliteter gör att rostfritt stål ses som ett allt mer intressant materialval. I vårens ”Forum för avancerad konstruktionsteknik” får du möta teamet bakom Storbritanniens första vägbro i rostfritt stål och höra om resan från upphandling till färdig bro. \nPlats: Online-möte https://chalmers.zoom.us/j/63374536438\nTid: Onsdag 10 juni kl.14.00–16.00\nSpråk: Engelska \nSeminariet är kostnadsfritt\, anmälan behövs ej. \nVälkommen!\n  \n\nVåra talare\nAndrew Backhouse\, Lead Technical Manager på Outokumpu\nHector Beade Pereda\, Head of Design på Knight Architects\nStewart Tennant\, Technical Leader på GHD \nLäs mer på Konstruktionscentrums webb
URL:https://brosamverkan.se/event/mot-teamet-bakom-pooley-bridge-storbritanniens-forsta-vagtrafikbro-i-rostfritt-stal/
ATTACH;FMTTYPE=image/jpeg:https://brosamverkan.se/wp-content/uploads/2020/05/pooley-bridge.jpg
END:VEVENT
END:VCALENDAR