BEGIN:VCALENDAR
VERSION:2.0
PRODID:-//Brosamverkan - ECPv6.15.20//NONSGML v1.0//EN
CALSCALE:GREGORIAN
METHOD:PUBLISH
X-ORIGINAL-URL:https://brosamverkan.se
X-WR-CALDESC:Händelser för Brosamverkan
REFRESH-INTERVAL;VALUE=DURATION:PT1H
X-Robots-Tag:noindex
X-PUBLISHED-TTL:PT1H
BEGIN:VTIMEZONE
TZID:Europe/Stockholm
BEGIN:DAYLIGHT
TZOFFSETFROM:+0100
TZOFFSETTO:+0200
TZNAME:CEST
DTSTART:20220327T010000
END:DAYLIGHT
BEGIN:STANDARD
TZOFFSETFROM:+0200
TZOFFSETTO:+0100
TZNAME:CET
DTSTART:20221030T010000
END:STANDARD
BEGIN:DAYLIGHT
TZOFFSETFROM:+0100
TZOFFSETTO:+0200
TZNAME:CEST
DTSTART:20230326T010000
END:DAYLIGHT
BEGIN:STANDARD
TZOFFSETFROM:+0200
TZOFFSETTO:+0100
TZNAME:CET
DTSTART:20231029T010000
END:STANDARD
BEGIN:DAYLIGHT
TZOFFSETFROM:+0100
TZOFFSETTO:+0200
TZNAME:CEST
DTSTART:20240331T010000
END:DAYLIGHT
BEGIN:STANDARD
TZOFFSETFROM:+0200
TZOFFSETTO:+0100
TZNAME:CET
DTSTART:20241027T010000
END:STANDARD
END:VTIMEZONE
BEGIN:VEVENT
DTSTART;TZID=Europe/Stockholm:20231208T093000
DTEND;TZID=Europe/Stockholm:20231208T140000
DTSTAMP:20260421T153928
CREATED:20231128T115219Z
LAST-MODIFIED:20231208T110258Z
UID:1659-1702027800-1702044000@brosamverkan.se
SUMMARY:Medlemsmöte med jullunch
DESCRIPTION:Brosamverkan inbjuder till medlemsmöte med jullunch\nDag och tid: 8/12 kl. 9:30 – 12:00. Jullunch kl. 12:00 – 14:00\nPlats: Swecos kontor\, Skånegatan 3\, Göteborg. Alternativt via Teams\nAnmälan: via formuläret nedan senast 5/12 \nBegränsat antal platser. \nArrangemanget är kostnadsfritt. \nDagordning finns här \nVälkommen!  \n  \nAnmälan är stängd.
URL:https://brosamverkan.se/event/medlemsmote-med-jullunch-2/
LOCATION:Sweco’s kontor i Göteborg eller via Teams\, Skånegatan 3\, Göteborg
CATEGORIES:Medlemsmöte
END:VEVENT
END:VCALENDAR