BEGIN:VCALENDAR
VERSION:2.0
PRODID:-//Brosamverkan - ECPv6.15.20//NONSGML v1.0//EN
CALSCALE:GREGORIAN
METHOD:PUBLISH
X-WR-CALNAME:Brosamverkan
X-ORIGINAL-URL:https://brosamverkan.se
X-WR-CALDESC:Händelser för Brosamverkan
REFRESH-INTERVAL;VALUE=DURATION:PT1H
X-Robots-Tag:noindex
X-PUBLISHED-TTL:PT1H
BEGIN:VTIMEZONE
TZID:Europe/Stockholm
BEGIN:DAYLIGHT
TZOFFSETFROM:+0100
TZOFFSETTO:+0200
TZNAME:CEST
DTSTART:20240331T010000
END:DAYLIGHT
BEGIN:STANDARD
TZOFFSETFROM:+0200
TZOFFSETTO:+0100
TZNAME:CET
DTSTART:20241027T010000
END:STANDARD
BEGIN:DAYLIGHT
TZOFFSETFROM:+0100
TZOFFSETTO:+0200
TZNAME:CEST
DTSTART:20250330T010000
END:DAYLIGHT
BEGIN:STANDARD
TZOFFSETFROM:+0200
TZOFFSETTO:+0100
TZNAME:CET
DTSTART:20251026T010000
END:STANDARD
BEGIN:DAYLIGHT
TZOFFSETFROM:+0100
TZOFFSETTO:+0200
TZNAME:CEST
DTSTART:20260329T010000
END:DAYLIGHT
BEGIN:STANDARD
TZOFFSETFROM:+0200
TZOFFSETTO:+0100
TZNAME:CET
DTSTART:20261025T010000
END:STANDARD
END:VTIMEZONE
BEGIN:VEVENT
DTSTART;TZID=Europe/Stockholm:20250128T083000
DTEND;TZID=Europe/Stockholm:20250128T160000
DTSTAMP:20260422T111909
CREATED:20241115T104533Z
LAST-MODIFIED:20241217T082721Z
UID:2007-1738053000-1738080000@brosamverkan.se
SUMMARY:CIR-dagen 2025
DESCRIPTION:Välkommen till CIR-dagen 2025 den 28 januari i Göteborg (dagen efter Brobyggardagen) som organiseras av Svenska gruppen inom CIB/IABSE/RILEM. \nTemat är Den moderna byggprocessen: AI och digitalisering i fokus\nEn heldagskonferens som fokuserar på hur teknikens framsteg driver utvecklingen och formar framtidens byggprocesser. Lär dig mer om hur byggbranschen utvecklas och påverkas av AI och digitala verktyg\, och passa på att nätverka med personer från hela branschen och utvecklas på ett professionellt plan. \nNär: Tisdagen den 28 januari 2025\, kl 08.30 – 16:00\nVar: Svenska mässan Gothia Towers\, Göteborg \nSe program och anmäl dig här: https://www.svenskacir.se/cirdagen2025
URL:https://brosamverkan.se/event/cir-dagen-2025/
LOCATION:Svenska Mässan Gothia Towers\, Göteborg
CATEGORIES:Konferens
ATTACH;FMTTYPE=image/jpeg:https://brosamverkan.se/wp-content/uploads/2024/11/cir-dagen.jpg
END:VEVENT
END:VCALENDAR