BEGIN:VCALENDAR
VERSION:2.0
PRODID:-//Brosamverkan - ECPv6.15.20//NONSGML v1.0//EN
CALSCALE:GREGORIAN
METHOD:PUBLISH
X-WR-CALNAME:Brosamverkan
X-ORIGINAL-URL:https://brosamverkan.se
X-WR-CALDESC:Händelser för Brosamverkan
REFRESH-INTERVAL;VALUE=DURATION:PT1H
X-Robots-Tag:noindex
X-PUBLISHED-TTL:PT1H
BEGIN:VTIMEZONE
TZID:Europe/Stockholm
BEGIN:DAYLIGHT
TZOFFSETFROM:+0100
TZOFFSETTO:+0200
TZNAME:CEST
DTSTART:20240331T010000
END:DAYLIGHT
BEGIN:STANDARD
TZOFFSETFROM:+0200
TZOFFSETTO:+0100
TZNAME:CET
DTSTART:20241027T010000
END:STANDARD
BEGIN:DAYLIGHT
TZOFFSETFROM:+0100
TZOFFSETTO:+0200
TZNAME:CEST
DTSTART:20250330T010000
END:DAYLIGHT
BEGIN:STANDARD
TZOFFSETFROM:+0200
TZOFFSETTO:+0100
TZNAME:CET
DTSTART:20251026T010000
END:STANDARD
BEGIN:DAYLIGHT
TZOFFSETFROM:+0100
TZOFFSETTO:+0200
TZNAME:CEST
DTSTART:20260329T010000
END:DAYLIGHT
BEGIN:STANDARD
TZOFFSETFROM:+0200
TZOFFSETTO:+0100
TZNAME:CET
DTSTART:20261025T010000
END:STANDARD
END:VTIMEZONE
BEGIN:VEVENT
DTSTART;VALUE=DATE:20250127
DTEND;VALUE=DATE:20250128
DTSTAMP:20260422T112013
CREATED:20241115T104844Z
LAST-MODIFIED:20241115T104844Z
UID:2012-1737936000-1738022399@brosamverkan.se
SUMMARY:Brobyggardagen 2025 i Göteborg
DESCRIPTION:Brobyggardagen i Göteborg 27 januari 2025\nVarmt välkommen till 2025 års Brobyggardag! Kom och upplev ett varierat program med både svenska och internationella inslag. Ta chansen att mingla bland kollegorna i utställningen där vi har många intressanta utställare på plats. \nSom vanligt koras Årets Brobyggare. Finns Årets Brobyggare hos er? Du vet väl om att du kan nominera på här på vår hemsida? Du hittar formuläret för nominering här » \nLäs mer »
URL:https://brosamverkan.se/event/brobyggardagen-2025-i-goteborg/
LOCATION:Göteborg\, Göteborg
CATEGORIES:Brobyggardagen
ATTACH;FMTTYPE=image/jpeg:https://brosamverkan.se/wp-content/uploads/2024/11/bild1.jpg
END:VEVENT
END:VCALENDAR