BEGIN:VCALENDAR
VERSION:2.0
PRODID:-//Brosamverkan - ECPv6.15.20//NONSGML v1.0//EN
CALSCALE:GREGORIAN
METHOD:PUBLISH
X-WR-CALNAME:Brosamverkan
X-ORIGINAL-URL:https://brosamverkan.se
X-WR-CALDESC:Händelser för Brosamverkan
REFRESH-INTERVAL;VALUE=DURATION:PT1H
X-Robots-Tag:noindex
X-PUBLISHED-TTL:PT1H
BEGIN:VTIMEZONE
TZID:Europe/Stockholm
BEGIN:DAYLIGHT
TZOFFSETFROM:+0100
TZOFFSETTO:+0200
TZNAME:CEST
DTSTART:20230326T010000
END:DAYLIGHT
BEGIN:STANDARD
TZOFFSETFROM:+0200
TZOFFSETTO:+0100
TZNAME:CET
DTSTART:20231029T010000
END:STANDARD
BEGIN:DAYLIGHT
TZOFFSETFROM:+0100
TZOFFSETTO:+0200
TZNAME:CEST
DTSTART:20240331T010000
END:DAYLIGHT
BEGIN:STANDARD
TZOFFSETFROM:+0200
TZOFFSETTO:+0100
TZNAME:CET
DTSTART:20241027T010000
END:STANDARD
BEGIN:DAYLIGHT
TZOFFSETFROM:+0100
TZOFFSETTO:+0200
TZNAME:CEST
DTSTART:20250330T010000
END:DAYLIGHT
BEGIN:STANDARD
TZOFFSETFROM:+0200
TZOFFSETTO:+0100
TZNAME:CET
DTSTART:20251026T010000
END:STANDARD
END:VTIMEZONE
BEGIN:VEVENT
DTSTART;TZID=Europe/Stockholm:20240130T083000
DTEND;TZID=Europe/Stockholm:20240130T153000
DTSTAMP:20260423T060252
CREATED:20231219T114227Z
LAST-MODIFIED:20231219T114450Z
UID:1698-1706603400-1706628600@brosamverkan.se
SUMMARY:CIR-dagen 2024
DESCRIPTION:Välkommen till CIR-dagen 2024 den 30 januari i Göteborg (dagen efter Brobyggardagen) som organiseras av Svenska gruppen inom CIB/IABSE/RILEM. \nTemat är \nKonstruktörers roll i klimatsmart byggande\nMissa inte en dag fullspäckad av intressanta föredrag från bl.a. NCC\, Skanska och RISE. På eftermiddagen är de paneldiskussion med BBT  (Branschprogram för Byggnadsverk till Transportsektorn) samt presentationer av aktuella BBT-projekt. Dessutom firar CIR 20-års jubileum med middag efter konferensen! \nNär: Tisdagen den 30 januari 2024\, kl 08.30 – 15.30\nVar: Svenska mässan Gothia Towers\, Göteborg \nSe program och anmäl dig här: https://www.svenskacir.se/cirdagen2024 \nhttps://www.svenskacir.se/
URL:https://brosamverkan.se/event/cir-dagen-2024/
LOCATION:Svenska Mässan Gothia Towers\, Göteborg
CATEGORIES:Konferens
ATTACH;FMTTYPE=image/png:https://brosamverkan.se/wp-content/uploads/2023/12/CIR-dagen-2024.png
END:VEVENT
END:VCALENDAR