BEGIN:VCALENDAR
VERSION:2.0
PRODID:-//Brosamverkan - ECPv6.15.20//NONSGML v1.0//EN
CALSCALE:GREGORIAN
METHOD:PUBLISH
X-WR-CALNAME:Brosamverkan
X-ORIGINAL-URL:https://brosamverkan.se
X-WR-CALDESC:Händelser för Brosamverkan
REFRESH-INTERVAL;VALUE=DURATION:PT1H
X-Robots-Tag:noindex
X-PUBLISHED-TTL:PT1H
BEGIN:VTIMEZONE
TZID:Europe/Stockholm
BEGIN:DAYLIGHT
TZOFFSETFROM:+0100
TZOFFSETTO:+0200
TZNAME:CEST
DTSTART:20220327T010000
END:DAYLIGHT
BEGIN:STANDARD
TZOFFSETFROM:+0200
TZOFFSETTO:+0100
TZNAME:CET
DTSTART:20221030T010000
END:STANDARD
BEGIN:DAYLIGHT
TZOFFSETFROM:+0100
TZOFFSETTO:+0200
TZNAME:CEST
DTSTART:20230326T010000
END:DAYLIGHT
BEGIN:STANDARD
TZOFFSETFROM:+0200
TZOFFSETTO:+0100
TZNAME:CET
DTSTART:20231029T010000
END:STANDARD
BEGIN:DAYLIGHT
TZOFFSETFROM:+0100
TZOFFSETTO:+0200
TZNAME:CEST
DTSTART:20240331T010000
END:DAYLIGHT
BEGIN:STANDARD
TZOFFSETFROM:+0200
TZOFFSETTO:+0100
TZNAME:CET
DTSTART:20241027T010000
END:STANDARD
END:VTIMEZONE
BEGIN:VEVENT
DTSTART;TZID=Europe/Stockholm:20230131T090000
DTEND;TZID=Europe/Stockholm:20230131T153000
DTSTAMP:20260425T215943
CREATED:20221128T134626Z
LAST-MODIFIED:20221128T135742Z
UID:1247-1675155600-1675179000@brosamverkan.se
SUMMARY:CIR-dagen 2023
DESCRIPTION:Välkommen till CIR-dagen 2023 den 31 januari i Göteborg (dagen efter Brobyggardagen). \nTemat är \nHÖGA BYGGNADER\nUtöver intressanta föredrag från bl a Serneke\, Tyréns och VBK Konsulterande ingenjörer innehåller CIR-dagen ett pass om aktuella BBT-projekt (BBT – Branschprogram för forskning och innovation avseende byggnadsverk inom transportsektorn). \nOrganiseras av svenska gruppen inom CIR \n\nNär: Tisdagen den 31 januari 2023\, kl 09.00 – 15.30\nVar: Göteborg\, Svenska mässan\, Gothia Towers konferens- avdelning\, våning 2\, entré 4\, Hotell Gothia Towers \nLäs mer (pdf) » \nhttps://svenskacir.se
URL:https://brosamverkan.se/event/cir-dagen-2023/
CATEGORIES:Konferens
ATTACH;FMTTYPE=image/jpeg:https://brosamverkan.se/wp-content/uploads/2022/11/cir-dagen-hus.jpg
END:VEVENT
END:VCALENDAR