BEGIN:VCALENDAR
VERSION:2.0
PRODID:-//Brosamverkan - ECPv6.15.20//NONSGML v1.0//EN
CALSCALE:GREGORIAN
METHOD:PUBLISH
X-ORIGINAL-URL:https://brosamverkan.se
X-WR-CALDESC:Händelser för Brosamverkan
REFRESH-INTERVAL;VALUE=DURATION:PT1H
X-Robots-Tag:noindex
X-PUBLISHED-TTL:PT1H
BEGIN:VTIMEZONE
TZID:Europe/Stockholm
BEGIN:DAYLIGHT
TZOFFSETFROM:+0100
TZOFFSETTO:+0200
TZNAME:CEST
DTSTART:20220327T010000
END:DAYLIGHT
BEGIN:STANDARD
TZOFFSETFROM:+0200
TZOFFSETTO:+0100
TZNAME:CET
DTSTART:20221030T010000
END:STANDARD
BEGIN:DAYLIGHT
TZOFFSETFROM:+0100
TZOFFSETTO:+0200
TZNAME:CEST
DTSTART:20230326T010000
END:DAYLIGHT
BEGIN:STANDARD
TZOFFSETFROM:+0200
TZOFFSETTO:+0100
TZNAME:CET
DTSTART:20231029T010000
END:STANDARD
BEGIN:DAYLIGHT
TZOFFSETFROM:+0100
TZOFFSETTO:+0200
TZNAME:CEST
DTSTART:20240331T010000
END:DAYLIGHT
BEGIN:STANDARD
TZOFFSETFROM:+0200
TZOFFSETTO:+0100
TZNAME:CET
DTSTART:20241027T010000
END:STANDARD
END:VTIMEZONE
BEGIN:VEVENT
DTSTART;TZID=Europe/Stockholm:20230119T151500
DTEND;TZID=Europe/Stockholm:20230119T151500
DTSTAMP:20260425T233313
CREATED:20230110T121111Z
LAST-MODIFIED:20230110T121213Z
UID:1308-1674141300-1674141300@brosamverkan.se
SUMMARY:Welcome to Helén Broo’s promotion lecture for Adjunct Professor
DESCRIPTION:When: 15:15\, 19th of January\, 2023\nWhere: Hörsal 7 (SB-H7)\, groundfloor\, ACE\, building SB2 (Sven Hultins gata 6) \nThe aftermingle will take place outside Hörsal 7\,  no registration is necessary.\nThe promotion lecture will be held in Swedish. \nWant to watch it via Zoom?\nJoin from PC\, Mac\, Linux\, iOS or Android: https://chalmers.zoom.us/j/61070401644\nPassword: BRO  \nConstruction-integrated bridge and structural engineering\nThe design determines how a civil structure\, e.g a bridge\, should be built to meet all the requirements set by the customer; function\, aesthetics\, robustness and cost as well as society’s requirements for safety\, load-bearing capacity and durability. In the design phase\, it is sometimes forgotten how the structure is to be built\, and how this can be done in rational a safe way. Today\, too many non-buildable solutions are developed by designers who have no interaction with production and have lack of knowledge on limitations and possibilities in production. \nThere is great potential for savings in society if you can avoid/minimize time losses and futile costs as a result of redesign in the execution phase due to non-production-adapted solutions. It is a matter of gaining experience from production at an early stage in the planning of the design. With today’s tools and better use of digital development\, models and parameterization can be used to enable optimization with more requirements\, choices\, and parameters such as quantities\, cost\, time\, CO2 equivalents\, buildability and safety.
URL:https://brosamverkan.se/event/welcome-to-helen-broos-promotion-lecture-for-adjunct-professor/
CATEGORIES:Föreläsning
END:VEVENT
END:VCALENDAR